BEGIN:VCALENDAR
VERSION:2.0
PRODID:-//81.176.228.3//NONSGML kigkonsult.se iCalcreator 2.10.23//
BEGIN:VEVENT
UID:20260423T081941MSD-4704fKuFAh@81.176.228.3
DTSTAMP:20260423T041941Z
DESCRIPTION:Стадион 'Динамо' Киров
DTSTART;TZID=Europe/Moscow:20170505T110000
DTEND;TZID=Europe/Moscow:20170505T115500
LOCATION:\,  
SUMMARY:Открытый Чемпионат ДФЛ 2017: 'Динамо-2005' Киров  - 'ДЮСШ №5-06' Ки
 ров
END:VEVENT
BEGIN:VEVENT
UID:20260423T081941MSD-4715S8Ib6K@81.176.228.3
DTSTAMP:20260423T041941Z
DESCRIPTION:Стадион 'Динамо' Киров
DTSTART;TZID=Europe/Moscow:20170505T120000
DTEND;TZID=Europe/Moscow:20170505T125500
LOCATION:\,  
SUMMARY:Открытый Чемпионат ДФЛ 2017: 'ДЮСШ' Чебоксары - 'Динамо-2005' Киров
  
END:VEVENT
BEGIN:VEVENT
UID:20260423T081941MSD-4727h1MmA0@81.176.228.3
DTSTAMP:20260423T041941Z
DESCRIPTION:Стадион 'Динамо' Киров
DTSTART;TZID=Europe/Moscow:20170506T150000
DTEND;TZID=Europe/Moscow:20170506T155500
LOCATION:\,  
SUMMARY:Открытый Чемпионат ДФЛ 2017: 'ДЮСШ №5-05' Киров - 'Динамо-2005' Кир
 ов 
END:VEVENT
BEGIN:VEVENT
UID:20260423T081941MSD-4738URnZDh@81.176.228.3
DTSTAMP:20260423T041941Z
DESCRIPTION:Стадион 'Динамо' Киров
DTSTART;TZID=Europe/Moscow:20170507T110000
DTEND;TZID=Europe/Moscow:20170507T115500
LOCATION:\,  
SUMMARY:Открытый Чемпионат ДФЛ 2017: 'Динамо-2005' Киров  - 'Факел-ВятСШОР-
 А' Киров
END:VEVENT
BEGIN:VEVENT
UID:20260423T081941MSD-4750Xmvnc5@81.176.228.3
DTSTAMP:20260423T041941Z
DESCRIPTION:Стадион 'Динамо' Киров
DTSTART;TZID=Europe/Moscow:20170508T090000
DTEND;TZID=Europe/Moscow:20170508T095500
LOCATION:\,  
SUMMARY:Открытый Чемпионат ДФЛ 2017: 'Динамо-2005' Киров  - 'Фортуна' Сыкты
 вкар
END:VEVENT
BEGIN:VEVENT
UID:20260423T081941MSD-4762dRhWsf@81.176.228.3
DTSTAMP:20260423T041941Z
DESCRIPTION:Стадион 'Динамо' Киров
DTSTART;TZID=Europe/Moscow:20170508T150000
DTEND;TZID=Europe/Moscow:20170508T155500
LOCATION:\,  
SUMMARY:Открытый Чемпионат ДФЛ 2017: 'Динамо-2005' Киров  - 'Динамо-2006' К
 иров
END:VEVENT
END:VCALENDAR
