BEGIN:VCALENDAR
VERSION:2.0
PRODID:-//81.176.228.3//NONSGML kigkonsult.se iCalcreator 2.10.23//
BEGIN:VEVENT
UID:20260424T140344MSD-2334wUsWh4@81.176.228.3
DTSTAMP:20260424T100344Z
DESCRIPTION:Стадион 'ВятСШОР' Киров
DTSTART;TZID=Europe/Moscow:20170520T180000
DTEND;TZID=Europe/Moscow:20170520T194500
LOCATION:Ленинградская\, 1-Б\, 610047 Киров
SUMMARY:Чемпионат Кировской области по футболу 2017: 'Факел-М' Киров - 'Мет
 аллург' Омутнинск
END:VEVENT
BEGIN:VEVENT
UID:20260424T140344MSD-2346aPD2XX@81.176.228.3
DTSTAMP:20260424T100344Z
DESCRIPTION:Cтадион 'Труд' Слободской
DTSTART;TZID=Europe/Moscow:20170527T173000
DTEND;TZID=Europe/Moscow:20170527T191500
LOCATION:\,  
SUMMARY:Чемпионат Кировской области по футболу 2017:  'Литобувь' Слободской
   - 'Металлург' Омутнинск
END:VEVENT
BEGIN:VEVENT
UID:20260424T140344MSD-23595xS6jb@81.176.228.3
DTSTAMP:20260424T100344Z
DESCRIPTION:Стадион 'Олимпия' Кирово-Чепецк
DTSTART;TZID=Europe/Moscow:20170603T170000
DTEND;TZID=Europe/Moscow:20170603T184500
LOCATION:\,  
SUMMARY:Чемпионат Кировской области по футболу 2017: 'Олимпия' К-Чепецк - '
 Металлург' Омутнинск
END:VEVENT
BEGIN:VEVENT
UID:20260424T140344MSD-2372iEWVBV@81.176.228.3
DTSTAMP:20260424T100344Z
DESCRIPTION:Стадион 'Металлург' Омутнинск
DTSTART;TZID=Europe/Moscow:20170612T173000
DTEND;TZID=Europe/Moscow:20170612T191500
LOCATION:\,  
SUMMARY:Чемпионат Кировской области по футболу 2017: 'Металлург' Омутнинск 
 - 'Прогресс' Киров
END:VEVENT
BEGIN:VEVENT
UID:20260424T140344MSD-2385ScPpXT@81.176.228.3
DTSTAMP:20260424T100344Z
DESCRIPTION:Стадион 'Металлург' Омутнинск
DTSTART;TZID=Europe/Moscow:20170617T173000
DTEND;TZID=Europe/Moscow:20170617T191500
LOCATION:\,  
SUMMARY:Чемпионат Кировской области по футболу 2017: 'Металлург' Омутнинск 
 - 'ДЮСШ-5' Киров
END:VEVENT
BEGIN:VEVENT
UID:20260424T140344MSD-2397dduVMi@81.176.228.3
DTSTAMP:20260424T100344Z
DESCRIPTION:Стадион 'ВятСШОР' Киров
DTSTART;TZID=Europe/Moscow:20170625T160000
DTEND;TZID=Europe/Moscow:20170625T174500
LOCATION:Ленинградская\, 1-Б\, 610047 Киров
SUMMARY:Чемпионат Кировской области по футболу 2017: 'Союз' Пинюг - 'Металл
 ург' Омутнинск
END:VEVENT
BEGIN:VEVENT
UID:20260424T140344MSD-24096xbV0j@81.176.228.3
DTSTAMP:20260424T100344Z
DESCRIPTION:Стадион 'Металлург' Омутнинск
DTSTART;TZID=Europe/Moscow:20170701T173000
DTEND;TZID=Europe/Moscow:20170701T191500
LOCATION:\,  
SUMMARY:Чемпионат Кировской области по футболу 2017: 'Металлург' Омутнинск 
 - 'Динамо-М' Киров
END:VEVENT
BEGIN:VEVENT
UID:20260424T140344MSD-2423VBf091@81.176.228.3
DTSTAMP:20260424T100344Z
DESCRIPTION:Стадион 'Дружба-МГЭИ' Киров
DTSTART;TZID=Europe/Moscow:20170709T170000
DTEND;TZID=Europe/Moscow:20170709T184500
LOCATION:\,  
SUMMARY:Чемпионат Кировской области по футболу 2017: 'Авангард' Киров - 'Ме
 таллург' Омутнинск
END:VEVENT
BEGIN:VEVENT
UID:20260424T140344MSD-2436gRRkjE@81.176.228.3
DTSTAMP:20260424T100344Z
DESCRIPTION:Стадион 'Металлург' Омутнинск
DTSTART;TZID=Europe/Moscow:20170715T173000
DTEND;TZID=Europe/Moscow:20170715T191500
LOCATION:\,  
SUMMARY:Чемпионат Кировской области по футболу 2017: 'Металлург' Омутнинск 
 - 'Нововятич' Киров
END:VEVENT
BEGIN:VEVENT
UID:20260424T140344MSD-2448zHp1Pa@81.176.228.3
DTSTAMP:20260424T100344Z
DESCRIPTION:Стадион 'Машиностроитель' Киров
DTSTART;TZID=Europe/Moscow:20170722T173000
DTEND;TZID=Europe/Moscow:20170722T191500
LOCATION:Розы Люксембург 95Б\,  Киров
SUMMARY:Чемпионат Кировской области по футболу 2017: 'Машиностроитель' Киро
 в - 'Металлург' Омутнинск
END:VEVENT
BEGIN:VEVENT
UID:20260424T140344MSD-2460gd61gu@81.176.228.3
DTSTAMP:20260424T100344Z
DESCRIPTION:Стадион 'Машиностроитель' Киров
DTSTART;TZID=Europe/Moscow:20170917T160000
DTEND;TZID=Europe/Moscow:20170917T174500
LOCATION:Розы Люксембург 95Б\,  Киров
SUMMARY:Чемпионат Кировской области по футболу 2017: 'Металлург' Омутнинск 
 - 'Искра' Вахруши
END:VEVENT
BEGIN:VEVENT
UID:20260424T140344MSD-2473P9g4a3@81.176.228.3
DTSTAMP:20260424T100344Z
DESCRIPTION:Стадион 'Машиностроитель' Киров
DTSTART;TZID=Europe/Moscow:20170805T173000
DTEND;TZID=Europe/Moscow:20170805T191500
LOCATION:Розы Люксембург 95Б\,  Киров
SUMMARY:Чемпионат Кировской области по футболу 2017: 'Металлург' Омутнинск 
 -  'Литобувь' Слободской 
END:VEVENT
BEGIN:VEVENT
UID:20260424T140344MSD-2487t82aco@81.176.228.3
DTSTAMP:20260424T100344Z
DESCRIPTION:Стадион 'Машиностроитель' Киров
DTSTART;TZID=Europe/Moscow:20170812T160000
DTEND;TZID=Europe/Moscow:20170812T174500
LOCATION:Розы Люксембург 95Б\,  Киров
SUMMARY:Чемпионат Кировской области по футболу 2017: 'Металлург' Омутнинск 
 - 'Олимпия' К-Чепецк
END:VEVENT
BEGIN:VEVENT
UID:20260424T140344MSD-2499vN94kC@81.176.228.3
DTSTAMP:20260424T100344Z
DESCRIPTION:Стадион 'Машиностроитель' Киров
DTSTART;TZID=Europe/Moscow:20170818T180000
DTEND;TZID=Europe/Moscow:20170818T194500
LOCATION:Розы Люксембург 95Б\,  Киров
SUMMARY:Чемпионат Кировской области по футболу 2017: 'Прогресс' Киров - 'Ме
 таллург' Омутнинск
END:VEVENT
BEGIN:VEVENT
UID:20260424T140344MSD-2511u1dpUo@81.176.228.3
DTSTAMP:20260424T100344Z
DESCRIPTION:Стадион 'Машиностроитель' Киров
DTSTART;TZID=Europe/Moscow:20170827T160000
DTEND;TZID=Europe/Moscow:20170827T174500
LOCATION:Розы Люксембург 95Б\,  Киров
SUMMARY:Чемпионат Кировской области по футболу 2017: 'ДЮСШ-5' Киров - 'Мета
 ллург' Омутнинск
END:VEVENT
BEGIN:VEVENT
UID:20260424T140344MSD-2523kCgahI@81.176.228.3
DTSTAMP:20260424T100344Z
DESCRIPTION:Стадион 'Машиностроитель' Киров
DTSTART;TZID=Europe/Moscow:20170902T160000
DTEND;TZID=Europe/Moscow:20170902T174500
LOCATION:Розы Люксембург 95Б\,  Киров
SUMMARY:Чемпионат Кировской области по футболу 2017: 'Металлург' Омутнинск 
 - 'Союз' Пинюг
END:VEVENT
BEGIN:VEVENT
UID:20260424T140344MSD-2535wUPxn4@81.176.228.3
DTSTAMP:20260424T100344Z
DESCRIPTION:Стадион 'Машиностроитель' Киров
DTSTART;TZID=Europe/Moscow:20170916T160000
DTEND;TZID=Europe/Moscow:20170916T174500
LOCATION:Розы Люксембург 95Б\,  Киров
SUMMARY:Чемпионат Кировской области по футболу 2017: 'Металлург' Омутнинск 
 - 'Авангард' Киров
END:VEVENT
BEGIN:VEVENT
UID:20260424T140344MSD-2547xgsfjN@81.176.228.3
DTSTAMP:20260424T100344Z
DESCRIPTION:Стадион 'Машиностроитель' Киров
DTSTART;TZID=Europe/Moscow:20170923T000000
DTEND;TZID=Europe/Moscow:20170923T014500
LOCATION:Розы Люксембург 95Б\,  Киров
SUMMARY:Чемпионат Кировской области по футболу 2017: 'Нововятич' Киров - 'М
 еталлург' Омутнинск
END:VEVENT
BEGIN:VEVENT
UID:20260424T140344MSD-2559DuAhOf@81.176.228.3
DTSTAMP:20260424T100344Z
DESCRIPTION:Стадион 'Машиностроитель' Киров
DTSTART;TZID=Europe/Moscow:20170930T000000
DTEND;TZID=Europe/Moscow:20170930T014500
LOCATION:Розы Люксембург 95Б\,  Киров
SUMMARY:Чемпионат Кировской области по футболу 2017: 'Металлург' Омутнинск 
 - 'Машиностроитель' Киров
END:VEVENT
BEGIN:VEVENT
UID:20260424T140344MSD-2571IIA8r0@81.176.228.3
DTSTAMP:20260424T100344Z
DESCRIPTION:Стадион 'Машиностроитель' Киров
DTSTART;TZID=Europe/Moscow:20171007T000000
DTEND;TZID=Europe/Moscow:20171007T014500
LOCATION:Розы Люксембург 95Б\,  Киров
SUMMARY:Чемпионат Кировской области по футболу 2017: 'Искра' Вахруши - 'Мет
 аллург' Омутнинск
END:VEVENT
BEGIN:VEVENT
UID:20260424T140344MSD-2585FevHZ2@81.176.228.3
DTSTAMP:20260424T100344Z
DESCRIPTION:Стадион 'Машиностроитель' Киров
DTSTART;TZID=Europe/Moscow:20171014T000000
DTEND;TZID=Europe/Moscow:20171014T014500
LOCATION:Розы Люксембург 95Б\,  Киров
SUMMARY:Чемпионат Кировской области по футболу 2017: 'Металлург' Омутнинск 
 - 'Факел-М' Киров
END:VEVENT
END:VCALENDAR
