BEGIN:VCALENDAR
VERSION:2.0
PRODID:-//81.176.228.3//NONSGML kigkonsult.se iCalcreator 2.10.23//
BEGIN:VEVENT
UID:20260425T032117MSD-9268vJDPr2@81.176.228.3
DTSTAMP:20260424T232117Z
DESCRIPTION:Стадион 'Прогресс' Киров
DTSTART;TZID=Europe/Moscow:20140119T100000
DTEND;TZID=Europe/Moscow:20140119T113500
LOCATION:\,  Киров
SUMMARY:Первенство Кировской области по футболу 'Снежинка-2014': 'СДЮСШОР-8
 ' Киров - 'Прогресс' Киров
END:VEVENT
BEGIN:VEVENT
UID:20260425T032117MSD-9280jd9Gct@81.176.228.3
DTSTAMP:20260424T232117Z
DESCRIPTION:Стадион 'Прогресс' Киров
DTSTART;TZID=Europe/Moscow:20140126T093000
DTEND;TZID=Europe/Moscow:20140126T110500
LOCATION:\,  Киров
SUMMARY:Первенство Кировской области по футболу 'Снежинка-2014': 'Прогресс'
  Киров - 'Факел-2' Киров
END:VEVENT
BEGIN:VEVENT
UID:20260425T032117MSD-9291WfLILs@81.176.228.3
DTSTAMP:20260424T232117Z
DESCRIPTION:Стадион 'Прогресс' Киров
DTSTART;TZID=Europe/Moscow:20140201T110000
DTEND;TZID=Europe/Moscow:20140201T123500
LOCATION:\,  Киров
SUMMARY:Первенство Кировской области по футболу 'Снежинка-2014': 'Динамо-М'
  Киров - 'Прогресс' Киров
END:VEVENT
BEGIN:VEVENT
UID:20260425T032117MSD-9303BpVjXb@81.176.228.3
DTSTAMP:20260424T232117Z
DESCRIPTION:Стадион 'Прогресс' Киров
DTSTART;TZID=Europe/Moscow:20140209T093000
DTEND;TZID=Europe/Moscow:20140209T110500
LOCATION:\,  Киров
SUMMARY:Первенство Кировской области по футболу 'Снежинка-2014': 'Прогресс'
  Киров - 'ГЭС' Киров
END:VEVENT
BEGIN:VEVENT
UID:20260425T032117MSD-9314Vf7EMW@81.176.228.3
DTSTAMP:20260424T232117Z
DESCRIPTION:Стадион 'Прогресс' Киров
DTSTART;TZID=Europe/Moscow:20140215T093000
DTEND;TZID=Europe/Moscow:20140215T110500
LOCATION:\,  Киров
SUMMARY:Первенство Кировской области по футболу 'Снежинка-2014': 'Дарья' Ор
 ичи - 'Прогресс' Киров
END:VEVENT
BEGIN:VEVENT
UID:20260425T032117MSD-9326fv4aUC@81.176.228.3
DTSTAMP:20260424T232117Z
DESCRIPTION:Стадион 'Машиностроитель' Киров
DTSTART;TZID=Europe/Moscow:20140222T130000
DTEND;TZID=Europe/Moscow:20140222T143500
LOCATION:Розы Люксембург 95Б\,  Киров
SUMMARY:Первенство Кировской области по футболу 'Снежинка-2014': 'Машиностр
 оитель' Киров - 'Прогресс' Киров
END:VEVENT
BEGIN:VEVENT
UID:20260425T032117MSD-9338MrFBDO@81.176.228.3
DTSTAMP:20260424T232117Z
DESCRIPTION:Стадион 'Прогресс' Киров
DTSTART;TZID=Europe/Moscow:20140301T093000
DTEND;TZID=Europe/Moscow:20140301T110500
LOCATION:\,  Киров
SUMMARY:Первенство Кировской области по футболу 'Снежинка-2014': 'Прогресс'
  Киров - 'Авангард' Киров
END:VEVENT
BEGIN:VEVENT
UID:20260425T032117MSD-9349f4okBE@81.176.228.3
DTSTAMP:20260424T232117Z
DESCRIPTION:Стадион 'Прогресс' Киров
DTSTART;TZID=Europe/Moscow:20140308T093000
DTEND;TZID=Europe/Moscow:20140308T110500
LOCATION:\,  Киров
SUMMARY:Первенство Кировской области по футболу 'Снежинка-2014': 'ДЮСШ-5' К
 иров - 'Прогресс' Киров
END:VEVENT
BEGIN:VEVENT
UID:20260425T032117MSD-9361S3soHO@81.176.228.3
DTSTAMP:20260424T232117Z
DESCRIPTION:Стадион 'Прогресс' Киров
DTSTART;TZID=Europe/Moscow:20140315T093000
DTEND;TZID=Europe/Moscow:20140315T110500
LOCATION:\,  Киров
SUMMARY:Первенство Кировской области по футболу 'Снежинка-2014': 'Прогресс'
  Киров - 'Факел' Киров
END:VEVENT
END:VCALENDAR
